BEGIN:VCALENDAR
VERSION:2.0
PRODID:-//Christina Lake Elementary School - ECPv6.15.15//NONSGML v1.0//EN
CALSCALE:GREGORIAN
METHOD:PUBLISH
X-ORIGINAL-URL:https://cles.sd51.bc.ca
X-WR-CALDESC:Events for Christina Lake Elementary School
REFRESH-INTERVAL;VALUE=DURATION:PT1H
X-Robots-Tag:noindex
X-PUBLISHED-TTL:PT1H
BEGIN:VTIMEZONE
TZID:America/Vancouver
BEGIN:DAYLIGHT
TZOFFSETFROM:-0800
TZOFFSETTO:-0700
TZNAME:PDT
DTSTART:20220313T100000
END:DAYLIGHT
BEGIN:STANDARD
TZOFFSETFROM:-0700
TZOFFSETTO:-0800
TZNAME:PST
DTSTART:20221106T090000
END:STANDARD
BEGIN:DAYLIGHT
TZOFFSETFROM:-0800
TZOFFSETTO:-0700
TZNAME:PDT
DTSTART:20230312T100000
END:DAYLIGHT
BEGIN:STANDARD
TZOFFSETFROM:-0700
TZOFFSETTO:-0800
TZNAME:PST
DTSTART:20231105T090000
END:STANDARD
BEGIN:DAYLIGHT
TZOFFSETFROM:-0800
TZOFFSETTO:-0700
TZNAME:PDT
DTSTART:20240310T100000
END:DAYLIGHT
BEGIN:STANDARD
TZOFFSETFROM:-0700
TZOFFSETTO:-0800
TZNAME:PST
DTSTART:20241103T090000
END:STANDARD
END:VTIMEZONE
BEGIN:VEVENT
DTSTART;TZID=America/Vancouver:20231207T100000
DTEND;TZID=America/Vancouver:20231207T150000
DTSTAMP:20260424T191759
CREATED:20231113T233433Z
LAST-MODIFIED:20231129T163037Z
UID:50247-1701943200-1701961200@cles.sd51.bc.ca
SUMMARY:6/7 Volleyball - district playday at GFSS
DESCRIPTION:
URL:https://cles.sd51.bc.ca/event/6-7-volleyball-district-playday-at-gfss/
END:VEVENT
BEGIN:VEVENT
DTSTART;TZID=America/Vancouver:20231207T121500
DTEND;TZID=America/Vancouver:20231207T124500
DTSTAMP:20260424T191759
CREATED:20231128T220511Z
LAST-MODIFIED:20231128T220526Z
UID:50286-1701951300-1701953100@cles.sd51.bc.ca
SUMMARY:Scholastic Book Fair in room 4
DESCRIPTION:
URL:https://cles.sd51.bc.ca/event/scholastic-book-fair-in-room-4/
END:VEVENT
BEGIN:VEVENT
DTSTART;TZID=America/Vancouver:20231207T153000
DTEND;TZID=America/Vancouver:20231207T160000
DTSTAMP:20260424T191759
CREATED:20231128T223439Z
LAST-MODIFIED:20231128T223439Z
UID:50296-1701963000-1701964800@cles.sd51.bc.ca
SUMMARY:Scholastic Book Fair in room 4
DESCRIPTION:
URL:https://cles.sd51.bc.ca/event/scholastic-book-fair-in-room-4-5/
END:VEVENT
END:VCALENDAR