BEGIN:VCALENDAR
VERSION:2.0
PRODID:-//Christina Lake Elementary School - ECPv6.15.15//NONSGML v1.0//EN
CALSCALE:GREGORIAN
METHOD:PUBLISH
X-WR-CALNAME:Christina Lake Elementary School
X-ORIGINAL-URL:https://cles.sd51.bc.ca
X-WR-CALDESC:Events for Christina Lake Elementary School
REFRESH-INTERVAL;VALUE=DURATION:PT1H
X-Robots-Tag:noindex
X-PUBLISHED-TTL:PT1H
BEGIN:VTIMEZONE
TZID:America/Vancouver
BEGIN:DAYLIGHT
TZOFFSETFROM:-0800
TZOFFSETTO:-0700
TZNAME:PDT
DTSTART:20230312T100000
END:DAYLIGHT
BEGIN:STANDARD
TZOFFSETFROM:-0700
TZOFFSETTO:-0800
TZNAME:PST
DTSTART:20231105T090000
END:STANDARD
BEGIN:DAYLIGHT
TZOFFSETFROM:-0800
TZOFFSETTO:-0700
TZNAME:PDT
DTSTART:20240310T100000
END:DAYLIGHT
BEGIN:STANDARD
TZOFFSETFROM:-0700
TZOFFSETTO:-0800
TZNAME:PST
DTSTART:20241103T090000
END:STANDARD
BEGIN:DAYLIGHT
TZOFFSETFROM:-0800
TZOFFSETTO:-0700
TZNAME:PDT
DTSTART:20250309T100000
END:DAYLIGHT
BEGIN:STANDARD
TZOFFSETFROM:-0700
TZOFFSETTO:-0800
TZNAME:PST
DTSTART:20251102T090000
END:STANDARD
END:VTIMEZONE
BEGIN:VEVENT
DTSTART;TZID=America/Vancouver:20240110T083000
DTEND;TZID=America/Vancouver:20240110T103000
DTSTAMP:20260425T041230
CREATED:20231127T191139Z
LAST-MODIFIED:20231127T191502Z
UID:50280-1704875400-1704882600@cles.sd51.bc.ca
SUMMARY:D.O. Gibson "In the Zone' performance at Perley School
DESCRIPTION:
URL:https://cles.sd51.bc.ca/event/d-o-gibson-in-the-zone-performance-at-perley-school/
END:VEVENT
END:VCALENDAR