BEGIN:VCALENDAR
VERSION:2.0
PRODID:-//Christina Lake Elementary School - ECPv6.15.15//NONSGML v1.0//EN
CALSCALE:GREGORIAN
METHOD:PUBLISH
X-ORIGINAL-URL:https://cles.sd51.bc.ca
X-WR-CALDESC:Events for Christina Lake Elementary School
REFRESH-INTERVAL;VALUE=DURATION:PT1H
X-Robots-Tag:noindex
X-PUBLISHED-TTL:PT1H
BEGIN:VTIMEZONE
TZID:America/Vancouver
BEGIN:DAYLIGHT
TZOFFSETFROM:-0800
TZOFFSETTO:-0700
TZNAME:PDT
DTSTART:20230312T100000
END:DAYLIGHT
BEGIN:STANDARD
TZOFFSETFROM:-0700
TZOFFSETTO:-0800
TZNAME:PST
DTSTART:20231105T090000
END:STANDARD
BEGIN:DAYLIGHT
TZOFFSETFROM:-0800
TZOFFSETTO:-0700
TZNAME:PDT
DTSTART:20240310T100000
END:DAYLIGHT
BEGIN:STANDARD
TZOFFSETFROM:-0700
TZOFFSETTO:-0800
TZNAME:PST
DTSTART:20241103T090000
END:STANDARD
BEGIN:DAYLIGHT
TZOFFSETFROM:-0800
TZOFFSETTO:-0700
TZNAME:PDT
DTSTART:20250309T100000
END:DAYLIGHT
BEGIN:STANDARD
TZOFFSETFROM:-0700
TZOFFSETTO:-0800
TZNAME:PST
DTSTART:20251102T090000
END:STANDARD
END:VTIMEZONE
BEGIN:VEVENT
DTSTART;TZID=America/Vancouver:20240516T083000
DTEND;TZID=America/Vancouver:20240516T150000
DTSTAMP:20260423T145942
CREATED:20240423T192946Z
LAST-MODIFIED:20240423T192946Z
UID:50607-1715848200-1715871600@cles.sd51.bc.ca
SUMMARY:4/5 Field Trip to RDKB in Trail
DESCRIPTION:
URL:https://cles.sd51.bc.ca/event/4-5-field-trip-to-rdkb-in-trail/
END:VEVENT
BEGIN:VEVENT
DTSTART;TZID=America/Vancouver:20240516T140000
DTEND;TZID=America/Vancouver:20240516T150000
DTSTAMP:20260423T145942
CREATED:20240509T194635Z
LAST-MODIFIED:20240509T194635Z
UID:50645-1715868000-1715871600@cles.sd51.bc.ca
SUMMARY:Moose Hide Campaign assembly
DESCRIPTION:Join us in the gymnasium for a Moose Hide Campaign.  There will be red regalia\, jingle and traditional dancers.
URL:https://cles.sd51.bc.ca/event/moose-hide-campaign-assembly/
END:VEVENT
END:VCALENDAR