BEGIN:VCALENDAR
VERSION:2.0
PRODID:-//Christina Lake Elementary School - ECPv6.15.15//NONSGML v1.0//EN
CALSCALE:GREGORIAN
METHOD:PUBLISH
X-WR-CALNAME:Christina Lake Elementary School
X-ORIGINAL-URL:https://cles.sd51.bc.ca
X-WR-CALDESC:Events for Christina Lake Elementary School
REFRESH-INTERVAL;VALUE=DURATION:PT1H
X-Robots-Tag:noindex
X-PUBLISHED-TTL:PT1H
BEGIN:VTIMEZONE
TZID:America/Vancouver
BEGIN:DAYLIGHT
TZOFFSETFROM:-0800
TZOFFSETTO:-0700
TZNAME:PDT
DTSTART:20240310T100000
END:DAYLIGHT
BEGIN:STANDARD
TZOFFSETFROM:-0700
TZOFFSETTO:-0800
TZNAME:PST
DTSTART:20241103T090000
END:STANDARD
BEGIN:DAYLIGHT
TZOFFSETFROM:-0800
TZOFFSETTO:-0700
TZNAME:PDT
DTSTART:20250309T100000
END:DAYLIGHT
BEGIN:STANDARD
TZOFFSETFROM:-0700
TZOFFSETTO:-0800
TZNAME:PST
DTSTART:20251102T090000
END:STANDARD
BEGIN:DAYLIGHT
TZOFFSETFROM:-0800
TZOFFSETTO:-0700
TZNAME:PDT
DTSTART:20260308T100000
END:DAYLIGHT
BEGIN:STANDARD
TZOFFSETFROM:-0700
TZOFFSETTO:-0800
TZNAME:PST
DTSTART:20261101T090000
END:STANDARD
END:VTIMEZONE
BEGIN:VEVENT
DTSTART;TZID=America/Vancouver:20250121T120000
DTEND;TZID=America/Vancouver:20250121T130000
DTSTAMP:20260422T203208
CREATED:20240110T182958Z
LAST-MODIFIED:20250116T215223Z
UID:50405-1737460800-1737464400@cles.sd51.bc.ca
SUMMARY:6/7 boys' basketball practice
DESCRIPTION:
URL:https://cles.sd51.bc.ca/event/6-7-boys-basketball-practice-14/
END:VEVENT
BEGIN:VEVENT
DTSTART;TZID=America/Vancouver:20250121T160000
DTEND;TZID=America/Vancouver:20250121T173000
DTSTAMP:20260422T203208
CREATED:20240130T214416Z
LAST-MODIFIED:20250116T213633Z
UID:50447-1737475200-1737480600@cles.sd51.bc.ca
SUMMARY:6/7 Girls' Basketball Practice
DESCRIPTION:
URL:https://cles.sd51.bc.ca/event/6-7-girls-basketball-practice-18/
END:VEVENT
END:VCALENDAR