BEGIN:VCALENDAR
VERSION:2.0
PRODID:-//Christina Lake Elementary School - ECPv6.15.15//NONSGML v1.0//EN
CALSCALE:GREGORIAN
METHOD:PUBLISH
X-ORIGINAL-URL:https://cles.sd51.bc.ca
X-WR-CALDESC:Events for Christina Lake Elementary School
REFRESH-INTERVAL;VALUE=DURATION:PT1H
X-Robots-Tag:noindex
X-PUBLISHED-TTL:PT1H
BEGIN:VTIMEZONE
TZID:America/Vancouver
BEGIN:DAYLIGHT
TZOFFSETFROM:-0800
TZOFFSETTO:-0700
TZNAME:PDT
DTSTART:20240310T100000
END:DAYLIGHT
BEGIN:STANDARD
TZOFFSETFROM:-0700
TZOFFSETTO:-0800
TZNAME:PST
DTSTART:20241103T090000
END:STANDARD
BEGIN:DAYLIGHT
TZOFFSETFROM:-0800
TZOFFSETTO:-0700
TZNAME:PDT
DTSTART:20250309T100000
END:DAYLIGHT
BEGIN:STANDARD
TZOFFSETFROM:-0700
TZOFFSETTO:-0800
TZNAME:PST
DTSTART:20251102T090000
END:STANDARD
BEGIN:DAYLIGHT
TZOFFSETFROM:-0800
TZOFFSETTO:-0700
TZNAME:PDT
DTSTART:20260308T100000
END:DAYLIGHT
BEGIN:STANDARD
TZOFFSETFROM:-0700
TZOFFSETTO:-0800
TZNAME:PST
DTSTART:20261101T090000
END:STANDARD
END:VTIMEZONE
BEGIN:VEVENT
DTSTART;TZID=America/Vancouver:20250211T100000
DTEND;TZID=America/Vancouver:20250211T123000
DTSTAMP:20260420T084544
CREATED:20250122T182656Z
LAST-MODIFIED:20250122T182656Z
UID:51013-1739268000-1739277000@cles.sd51.bc.ca
SUMMARY:Gr. 4-7 Skating/Hockey
DESCRIPTION:
URL:https://cles.sd51.bc.ca/event/gr-4-7-skating-hockey/
END:VEVENT
BEGIN:VEVENT
DTSTART;TZID=America/Vancouver:20250211T151500
DTEND;TZID=America/Vancouver:20250211T161500
DTSTAMP:20260420T084544
CREATED:20250122T181739Z
LAST-MODIFIED:20250210T223530Z
UID:50989-1739286900-1739290500@cles.sd51.bc.ca
SUMMARY:6/7 boys' basketball practice
DESCRIPTION:
URL:https://cles.sd51.bc.ca/event/6-7-boys-basketball-practice-2/
END:VEVENT
BEGIN:VEVENT
DTSTART;TZID=America/Vancouver:20250211T160000
DTEND;TZID=America/Vancouver:20250211T173000
DTSTAMP:20260420T084544
CREATED:20250122T180545Z
LAST-MODIFIED:20250122T180545Z
UID:50961-1739289600-1739295000@cles.sd51.bc.ca
SUMMARY:6/7 girls' basketball practice
DESCRIPTION:
URL:https://cles.sd51.bc.ca/event/6-7-girls-basketball-practice-5/
END:VEVENT
END:VCALENDAR