BEGIN:VCALENDAR
VERSION:2.0
PRODID:-//Christina Lake Elementary School - ECPv6.15.15//NONSGML v1.0//EN
CALSCALE:GREGORIAN
METHOD:PUBLISH
X-ORIGINAL-URL:https://cles.sd51.bc.ca
X-WR-CALDESC:Events for Christina Lake Elementary School
REFRESH-INTERVAL;VALUE=DURATION:PT1H
X-Robots-Tag:noindex
X-PUBLISHED-TTL:PT1H
BEGIN:VTIMEZONE
TZID:America/Vancouver
BEGIN:DAYLIGHT
TZOFFSETFROM:-0800
TZOFFSETTO:-0700
TZNAME:PDT
DTSTART:20240310T100000
END:DAYLIGHT
BEGIN:STANDARD
TZOFFSETFROM:-0700
TZOFFSETTO:-0800
TZNAME:PST
DTSTART:20241103T090000
END:STANDARD
BEGIN:DAYLIGHT
TZOFFSETFROM:-0800
TZOFFSETTO:-0700
TZNAME:PDT
DTSTART:20250309T100000
END:DAYLIGHT
BEGIN:STANDARD
TZOFFSETFROM:-0700
TZOFFSETTO:-0800
TZNAME:PST
DTSTART:20251102T090000
END:STANDARD
BEGIN:DAYLIGHT
TZOFFSETFROM:-0800
TZOFFSETTO:-0700
TZNAME:PDT
DTSTART:20260308T100000
END:DAYLIGHT
BEGIN:STANDARD
TZOFFSETFROM:-0700
TZOFFSETTO:-0800
TZNAME:PST
DTSTART:20261101T090000
END:STANDARD
END:VTIMEZONE
BEGIN:VEVENT
DTSTART;TZID=America/Vancouver:20250416T154500
DTEND;TZID=America/Vancouver:20250416T170000
DTSTAMP:20260423T120850
CREATED:20250402T224530Z
LAST-MODIFIED:20250402T224545Z
UID:51159-1744818300-1744822800@cles.sd51.bc.ca
SUMMARY:Choir
DESCRIPTION:
URL:https://cles.sd51.bc.ca/event/choir-8/
END:VEVENT
BEGIN:VEVENT
DTSTART;TZID=America/Vancouver:20250416T170000
DTEND;TZID=America/Vancouver:20250416T190000
DTSTAMP:20260423T120850
CREATED:20250403T165547Z
LAST-MODIFIED:20250403T165547Z
UID:51165-1744822800-1744830000@cles.sd51.bc.ca
SUMMARY:Spring Open House & PAC BBQ
DESCRIPTION:
URL:https://cles.sd51.bc.ca/event/spring-open-house-pac-bbq/
END:VEVENT
BEGIN:VEVENT
DTSTART;TZID=America/Vancouver:20250416T173000
DTEND;TZID=America/Vancouver:20250416T180000
DTSTAMP:20260423T120850
CREATED:20250403T165620Z
LAST-MODIFIED:20250403T165620Z
UID:51166-1744824600-1744826400@cles.sd51.bc.ca
SUMMARY:Rabbit Run
DESCRIPTION:
URL:https://cles.sd51.bc.ca/event/rabbit-run-2/
END:VEVENT
BEGIN:VEVENT
DTSTART;TZID=America/Vancouver:20250416T183000
DTEND;TZID=America/Vancouver:20250416T190000
DTSTAMP:20260423T120850
CREATED:20250407T162258Z
LAST-MODIFIED:20250407T162258Z
UID:51175-1744828200-1744830000@cles.sd51.bc.ca
SUMMARY:6/7 Field Trip Parent Meeting
DESCRIPTION:
URL:https://cles.sd51.bc.ca/event/6-7-field-trip-parent-meeting/
END:VEVENT
END:VCALENDAR