BEGIN:VCALENDAR
VERSION:2.0
PRODID:-//Christina Lake Elementary School - ECPv6.15.15//NONSGML v1.0//EN
CALSCALE:GREGORIAN
METHOD:PUBLISH
X-ORIGINAL-URL:https://cles.sd51.bc.ca
X-WR-CALDESC:Events for Christina Lake Elementary School
REFRESH-INTERVAL;VALUE=DURATION:PT1H
X-Robots-Tag:noindex
X-PUBLISHED-TTL:PT1H
BEGIN:VTIMEZONE
TZID:America/Vancouver
BEGIN:DAYLIGHT
TZOFFSETFROM:-0800
TZOFFSETTO:-0700
TZNAME:PDT
DTSTART:20250309T100000
END:DAYLIGHT
BEGIN:STANDARD
TZOFFSETFROM:-0700
TZOFFSETTO:-0800
TZNAME:PST
DTSTART:20251102T090000
END:STANDARD
BEGIN:DAYLIGHT
TZOFFSETFROM:-0800
TZOFFSETTO:-0700
TZNAME:PDT
DTSTART:20260308T100000
END:DAYLIGHT
BEGIN:STANDARD
TZOFFSETFROM:-0700
TZOFFSETTO:-0800
TZNAME:PST
DTSTART:20261101T090000
END:STANDARD
BEGIN:DAYLIGHT
TZOFFSETFROM:-0800
TZOFFSETTO:-0700
TZNAME:PDT
DTSTART:20270314T100000
END:DAYLIGHT
BEGIN:STANDARD
TZOFFSETFROM:-0700
TZOFFSETTO:-0800
TZNAME:PST
DTSTART:20271107T090000
END:STANDARD
END:VTIMEZONE
BEGIN:VEVENT
DTSTART;VALUE=DATE:20260618
DTEND;VALUE=DATE:20260619
DTSTAMP:20260421T175514
CREATED:20260408T211811Z
LAST-MODIFIED:20260410T161150Z
UID:51610-1781740800-1781827199@cles.sd51.bc.ca
SUMMARY:PAC Hot Lunch - Chicken Fajita Bowls
DESCRIPTION:
URL:https://cles.sd51.bc.ca/event/pac-hot-lunch-7/
END:VEVENT
BEGIN:VEVENT
DTSTART;TZID=America/Vancouver:20260618T140000
DTEND;TZID=America/Vancouver:20260618T150000
DTSTAMP:20260421T175514
CREATED:20260413T190856Z
LAST-MODIFIED:20260413T190856Z
UID:51628-1781791200-1781794800@cles.sd51.bc.ca
SUMMARY:Kindergarten Orientation
DESCRIPTION:
URL:https://cles.sd51.bc.ca/event/kindergarten-orientation-3/
END:VEVENT
END:VCALENDAR