BEGIN:VCALENDAR
VERSION:2.0
PRODID:-//Christina Lake Elementary School - ECPv6.15.15//NONSGML v1.0//EN
CALSCALE:GREGORIAN
METHOD:PUBLISH
X-ORIGINAL-URL:https://cles.sd51.bc.ca
X-WR-CALDESC:Events for Christina Lake Elementary School
REFRESH-INTERVAL;VALUE=DURATION:PT1H
X-Robots-Tag:noindex
X-PUBLISHED-TTL:PT1H
BEGIN:VTIMEZONE
TZID:America/Vancouver
BEGIN:DAYLIGHT
TZOFFSETFROM:-0800
TZOFFSETTO:-0700
TZNAME:PDT
DTSTART:20220313T100000
END:DAYLIGHT
BEGIN:STANDARD
TZOFFSETFROM:-0700
TZOFFSETTO:-0800
TZNAME:PST
DTSTART:20221106T090000
END:STANDARD
BEGIN:DAYLIGHT
TZOFFSETFROM:-0800
TZOFFSETTO:-0700
TZNAME:PDT
DTSTART:20230312T100000
END:DAYLIGHT
BEGIN:STANDARD
TZOFFSETFROM:-0700
TZOFFSETTO:-0800
TZNAME:PST
DTSTART:20231105T090000
END:STANDARD
BEGIN:DAYLIGHT
TZOFFSETFROM:-0800
TZOFFSETTO:-0700
TZNAME:PDT
DTSTART:20240310T100000
END:DAYLIGHT
BEGIN:STANDARD
TZOFFSETFROM:-0700
TZOFFSETTO:-0800
TZNAME:PST
DTSTART:20241103T090000
END:STANDARD
BEGIN:DAYLIGHT
TZOFFSETFROM:-0800
TZOFFSETTO:-0700
TZNAME:PDT
DTSTART:20250309T100000
END:DAYLIGHT
BEGIN:STANDARD
TZOFFSETFROM:-0700
TZOFFSETTO:-0800
TZNAME:PST
DTSTART:20251102T090000
END:STANDARD
END:VTIMEZONE
BEGIN:VEVENT
DTSTART;TZID=America/Vancouver:20231204T190000
DTEND;TZID=America/Vancouver:20231204T200000
DTSTAMP:20260424T191928
CREATED:20231013T163231Z
LAST-MODIFIED:20231013T163231Z
UID:50163-1701716400-1701720000@cles.sd51.bc.ca
SUMMARY:PAC Meeting - 7 pm - CLES room 1
DESCRIPTION:
URL:https://cles.sd51.bc.ca/event/pac-meeting-7-pm-cles-room-1-2/
END:VEVENT
BEGIN:VEVENT
DTSTART;TZID=America/Vancouver:20231205T100000
DTEND;TZID=America/Vancouver:20231205T120000
DTSTAMP:20260424T191928
CREATED:20231128T224409Z
LAST-MODIFIED:20231128T224409Z
UID:50304-1701770400-1701777600@cles.sd51.bc.ca
SUMMARY:4/5 Curling & 6/7 Skating
DESCRIPTION:
URL:https://cles.sd51.bc.ca/event/4-5-curling-6-7-skating/
END:VEVENT
BEGIN:VEVENT
DTSTART;TZID=America/Vancouver:20231207T100000
DTEND;TZID=America/Vancouver:20231207T150000
DTSTAMP:20260424T191928
CREATED:20231113T233433Z
LAST-MODIFIED:20231129T163037Z
UID:50247-1701943200-1701961200@cles.sd51.bc.ca
SUMMARY:6/7 Volleyball - district playday at GFSS
DESCRIPTION:
URL:https://cles.sd51.bc.ca/event/6-7-volleyball-district-playday-at-gfss/
END:VEVENT
BEGIN:VEVENT
DTSTART;TZID=America/Vancouver:20231207T121500
DTEND;TZID=America/Vancouver:20231207T124500
DTSTAMP:20260424T191928
CREATED:20231128T220511Z
LAST-MODIFIED:20231128T220526Z
UID:50286-1701951300-1701953100@cles.sd51.bc.ca
SUMMARY:Scholastic Book Fair in room 4
DESCRIPTION:
URL:https://cles.sd51.bc.ca/event/scholastic-book-fair-in-room-4/
END:VEVENT
BEGIN:VEVENT
DTSTART;TZID=America/Vancouver:20231207T153000
DTEND;TZID=America/Vancouver:20231207T160000
DTSTAMP:20260424T191928
CREATED:20231128T223439Z
LAST-MODIFIED:20231128T223439Z
UID:50296-1701963000-1701964800@cles.sd51.bc.ca
SUMMARY:Scholastic Book Fair in room 4
DESCRIPTION:
URL:https://cles.sd51.bc.ca/event/scholastic-book-fair-in-room-4-5/
END:VEVENT
BEGIN:VEVENT
DTSTART;TZID=America/Vancouver:20231211T121500
DTEND;TZID=America/Vancouver:20231211T124500
DTSTAMP:20260424T191928
CREATED:20231128T220604Z
LAST-MODIFIED:20231128T220604Z
UID:50288-1702296900-1702298700@cles.sd51.bc.ca
SUMMARY:Scholastic Book Fair in room 4
DESCRIPTION:
URL:https://cles.sd51.bc.ca/event/scholastic-book-fair-in-room-4-2/
END:VEVENT
BEGIN:VEVENT
DTSTART;TZID=America/Vancouver:20231211T153000
DTEND;TZID=America/Vancouver:20231211T160000
DTSTAMP:20260424T191928
CREATED:20231128T223517Z
LAST-MODIFIED:20231128T223517Z
UID:50298-1702308600-1702310400@cles.sd51.bc.ca
SUMMARY:Scholastic Book Fair in room 4
DESCRIPTION:
URL:https://cles.sd51.bc.ca/event/scholastic-book-fair-in-room-4-6/
END:VEVENT
BEGIN:VEVENT
DTSTART;TZID=America/Vancouver:20231211T183000
DTEND;TZID=America/Vancouver:20231211T190000
DTSTAMP:20260424T191928
CREATED:20231128T220628Z
LAST-MODIFIED:20231128T220628Z
UID:50290-1702319400-1702321200@cles.sd51.bc.ca
SUMMARY:Scholastic Book Fair in room 4
DESCRIPTION:
URL:https://cles.sd51.bc.ca/event/scholastic-book-fair-in-room-4-3/
END:VEVENT
BEGIN:VEVENT
DTSTART;TZID=America/Vancouver:20231212T100000
DTEND;TZID=America/Vancouver:20231212T120000
DTSTAMP:20260424T191928
CREATED:20231128T224438Z
LAST-MODIFIED:20231128T224438Z
UID:50306-1702375200-1702382400@cles.sd51.bc.ca
SUMMARY:4/5 Curling & K-3 Skating
DESCRIPTION:
URL:https://cles.sd51.bc.ca/event/4-5-curling-k-3-skating/
END:VEVENT
BEGIN:VEVENT
DTSTART;TZID=America/Vancouver:20231212T121500
DTEND;TZID=America/Vancouver:20231212T124500
DTSTAMP:20260424T191928
CREATED:20231128T220655Z
LAST-MODIFIED:20231128T220655Z
UID:50292-1702383300-1702385100@cles.sd51.bc.ca
SUMMARY:Scholastic Book Fair in room 4
DESCRIPTION:
URL:https://cles.sd51.bc.ca/event/scholastic-book-fair-in-room-4-4/
END:VEVENT
BEGIN:VEVENT
DTSTART;TZID=America/Vancouver:20231212T153000
DTEND;TZID=America/Vancouver:20231212T160000
DTSTAMP:20260424T191928
CREATED:20231128T223856Z
LAST-MODIFIED:20231128T223856Z
UID:50302-1702395000-1702396800@cles.sd51.bc.ca
SUMMARY:Scholastic Book Fair in room 4
DESCRIPTION:
URL:https://cles.sd51.bc.ca/event/scholastic-book-fair-in-room-4-8/
END:VEVENT
BEGIN:VEVENT
DTSTART;VALUE=DATE:20231213
DTEND;VALUE=DATE:20231214
DTSTAMP:20260424T191928
CREATED:20231113T233745Z
LAST-MODIFIED:20231113T233745Z
UID:50252-1702425600-1702511999@cles.sd51.bc.ca
SUMMARY:Return raffle tickets
DESCRIPTION:
URL:https://cles.sd51.bc.ca/event/return-raffle-tickets/
END:VEVENT
BEGIN:VEVENT
DTSTART;TZID=America/Vancouver:20231218T120000
DTEND;TZID=America/Vancouver:20231218T123000
DTSTAMP:20260424T191928
CREATED:20231024T165641Z
LAST-MODIFIED:20231024T165641Z
UID:50192-1702900800-1702902600@cles.sd51.bc.ca
SUMMARY:Hot Lunch - Pizza
DESCRIPTION:
URL:https://cles.sd51.bc.ca/event/hot-lunch-pizza/
END:VEVENT
BEGIN:VEVENT
DTSTART;TZID=America/Vancouver:20231219T133000
DTEND;TZID=America/Vancouver:20231219T193000
DTSTAMP:20260424T191928
CREATED:20231013T163323Z
LAST-MODIFIED:20231113T233557Z
UID:50165-1702992600-1703014200@cles.sd51.bc.ca
SUMMARY:CLES Winter Concert
DESCRIPTION:Matinee performance at 1:30 pm \nEvening performance at 6:30 pm
URL:https://cles.sd51.bc.ca/event/cles-winter-concert-tentative/
END:VEVENT
BEGIN:VEVENT
DTSTART;TZID=America/Vancouver:20231219T190000
DTEND;TZID=America/Vancouver:20231219T190000
DTSTAMP:20260424T191928
CREATED:20231113T233715Z
LAST-MODIFIED:20231113T233715Z
UID:50250-1703012400-1703012400@cles.sd51.bc.ca
SUMMARY:PAC's Winter Raffle Draw
DESCRIPTION:Red Mountain\nDonation: 2x Adult Day Tickets\nValue: $328.00 \nGrand Forks Chamber of Commerce\nDonation: Boundary Bucks\nValue: $250.00 \nSeasons\nDonation: Havoc Storm Scooter\nValue: $210.00 \nChristmas-Stained Glass Ornament- Snowman\nDonation: Spector Glass\nValue: $80.00 \nChristmas-Stained Glass Ornament- Christmas Bells\nDonation: Spector Glass\nValue: $70.00 \nChristmas Fiber Art Dream Catcher\nDonation: Unknown Donator\nValue: $75.00 \nChristmas-Stained Glass Ornament- Elf Stocking\nDonation: Spector Glass Art\nValue: $65.00
URL:https://cles.sd51.bc.ca/event/pacs-winter-raffle-draw/
END:VEVENT
BEGIN:VEVENT
DTSTART;VALUE=DATE:20231222
DTEND;VALUE=DATE:20240108
DTSTAMP:20260424T191928
CREATED:20221103T180352Z
LAST-MODIFIED:20230704T174406Z
UID:49545-1703203200-1704671999@cles.sd51.bc.ca
SUMMARY:Winter Break
DESCRIPTION:District schools will be closed for Winter Break from December 22 to January 7\, inclusive.  Schools will re-open on Monday\, January 8.
URL:https://cles.sd51.bc.ca/event/winter-break/
END:VEVENT
END:VCALENDAR