BEGIN:VCALENDAR
VERSION:2.0
PRODID:-//Christina Lake Elementary School - ECPv6.15.15//NONSGML v1.0//EN
CALSCALE:GREGORIAN
METHOD:PUBLISH
X-WR-CALNAME:Christina Lake Elementary School
X-ORIGINAL-URL:https://cles.sd51.bc.ca
X-WR-CALDESC:Events for Christina Lake Elementary School
REFRESH-INTERVAL;VALUE=DURATION:PT1H
X-Robots-Tag:noindex
X-PUBLISHED-TTL:PT1H
BEGIN:VTIMEZONE
TZID:America/Vancouver
BEGIN:DAYLIGHT
TZOFFSETFROM:-0800
TZOFFSETTO:-0700
TZNAME:PDT
DTSTART:20230312T100000
END:DAYLIGHT
BEGIN:STANDARD
TZOFFSETFROM:-0700
TZOFFSETTO:-0800
TZNAME:PST
DTSTART:20231105T090000
END:STANDARD
BEGIN:DAYLIGHT
TZOFFSETFROM:-0800
TZOFFSETTO:-0700
TZNAME:PDT
DTSTART:20240310T100000
END:DAYLIGHT
BEGIN:STANDARD
TZOFFSETFROM:-0700
TZOFFSETTO:-0800
TZNAME:PST
DTSTART:20241103T090000
END:STANDARD
BEGIN:DAYLIGHT
TZOFFSETFROM:-0800
TZOFFSETTO:-0700
TZNAME:PDT
DTSTART:20250309T100000
END:DAYLIGHT
BEGIN:STANDARD
TZOFFSETFROM:-0700
TZOFFSETTO:-0800
TZNAME:PST
DTSTART:20251102T090000
END:STANDARD
END:VTIMEZONE
BEGIN:VEVENT
DTSTART;VALUE=DATE:20240315
DTEND;VALUE=DATE:20240402
DTSTAMP:20260423T093303
CREATED:20221103T181327Z
LAST-MODIFIED:20230704T174956Z
UID:49568-1710460800-1712015999@cles.sd51.bc.ca
SUMMARY:Spring Break
DESCRIPTION:
URL:https://cles.sd51.bc.ca/event/spring-break/
END:VEVENT
BEGIN:VEVENT
DTSTART;VALUE=DATE:20240401
DTEND;VALUE=DATE:20240402
DTSTAMP:20260423T093303
CREATED:20221103T181642Z
LAST-MODIFIED:20230704T175126Z
UID:49572-1711929600-1712015999@cles.sd51.bc.ca
SUMMARY:Easter Monday - schools closed
DESCRIPTION:
URL:https://cles.sd51.bc.ca/event/easter-monday-schools-closed/
END:VEVENT
BEGIN:VEVENT
DTSTART;VALUE=DATE:20240405
DTEND;VALUE=DATE:20240406
DTSTAMP:20260423T093303
CREATED:20221103T181047Z
LAST-MODIFIED:20230704T174914Z
UID:49564-1712275200-1712361599@cles.sd51.bc.ca
SUMMARY:School in session
DESCRIPTION:
URL:https://cles.sd51.bc.ca/event/school-in-session-3/
END:VEVENT
BEGIN:VEVENT
DTSTART;TZID=America/Vancouver:20240405T120000
DTEND;TZID=America/Vancouver:20240405T130000
DTSTAMP:20260423T093303
CREATED:20240307T195935Z
LAST-MODIFIED:20240307T200037Z
UID:50520-1712318400-1712322000@cles.sd51.bc.ca
SUMMARY:Hot Lunch - breakfast for lunch
DESCRIPTION:
URL:https://cles.sd51.bc.ca/event/hot-lunch-breakfast-for-lunch/
END:VEVENT
BEGIN:VEVENT
DTSTART;TZID=America/Vancouver:20240405T144500
DTEND;TZID=America/Vancouver:20240405T151500
DTSTAMP:20260423T093303
CREATED:20240312T195902Z
LAST-MODIFIED:20240312T195902Z
UID:50541-1712328300-1712330100@cles.sd51.bc.ca
SUMMARY:Rabbit Run
DESCRIPTION:
URL:https://cles.sd51.bc.ca/event/rabbit-run/
END:VEVENT
BEGIN:VEVENT
DTSTART;TZID=America/Vancouver:20240408T190000
DTEND;TZID=America/Vancouver:20240408T200000
DTSTAMP:20260423T093303
CREATED:20240307T195659Z
LAST-MODIFIED:20240307T195659Z
UID:50518-1712602800-1712606400@cles.sd51.bc.ca
SUMMARY:PAC Meeting
DESCRIPTION:
URL:https://cles.sd51.bc.ca/event/pac-meeting-2/
END:VEVENT
BEGIN:VEVENT
DTSTART;TZID=America/Vancouver:20240415T110000
DTEND;TZID=America/Vancouver:20240415T120000
DTSTAMP:20260423T093303
CREATED:20240410T193735Z
LAST-MODIFIED:20240410T193735Z
UID:50594-1713178800-1713182400@cles.sd51.bc.ca
SUMMARY:MLA Roly Russell visits 4/5 class
DESCRIPTION:
URL:https://cles.sd51.bc.ca/event/mla-roly-russell-visits-4-5-class/
END:VEVENT
BEGIN:VEVENT
DTSTART;TZID=America/Vancouver:20240416T130000
DTEND;TZID=America/Vancouver:20240416T150000
DTSTAMP:20260423T093303
CREATED:20240405T170510Z
LAST-MODIFIED:20240405T170510Z
UID:50559-1713272400-1713279600@cles.sd51.bc.ca
SUMMARY:Ultimate for grades 4-7
DESCRIPTION:Students in grades 4-7 will learn and play Ultimate with the Kuromis on Tuesday\, April 16 from 1-3 pm
URL:https://cles.sd51.bc.ca/event/ultimate-for-grades-4-7/
END:VEVENT
BEGIN:VEVENT
DTSTART;TZID=America/Vancouver:20240423T141500
DTEND;TZID=America/Vancouver:20240424T163000
DTSTAMP:20260423T093303
CREATED:20221103T181928Z
LAST-MODIFIED:20230704T173543Z
UID:49580-1713881700-1713976200@cles.sd51.bc.ca
SUMMARY:Early Dismissal at 2:15 pm
DESCRIPTION:Buses will make their regular runs one hour earlier these days
URL:https://cles.sd51.bc.ca/event/early-dismissal-at-215-pm/
END:VEVENT
BEGIN:VEVENT
DTSTART;TZID=America/Vancouver:20240423T160000
DTEND;TZID=America/Vancouver:20240423T180000
DTSTAMP:20260423T093303
CREATED:20240405T170110Z
LAST-MODIFIED:20240405T170110Z
UID:50553-1713888000-1713895200@cles.sd51.bc.ca
SUMMARY:Open House & PAC BBQ
DESCRIPTION:
URL:https://cles.sd51.bc.ca/event/open-house-pac-bbq-2/
END:VEVENT
BEGIN:VEVENT
DTSTART;TZID=America/Vancouver:20240425T083000
DTEND;TZID=America/Vancouver:20240425T150000
DTSTAMP:20260423T093303
CREATED:20240417T193417Z
LAST-MODIFIED:20240417T193417Z
UID:50602-1714033800-1714057200@cles.sd51.bc.ca
SUMMARY:6/7 Nk'mip Visit
DESCRIPTION:
URL:https://cles.sd51.bc.ca/event/6-7-nkmip-visit/
END:VEVENT
BEGIN:VEVENT
DTSTART;TZID=America/Vancouver:20240425T134000
DTEND;TZID=America/Vancouver:20240425T143000
DTSTAMP:20260423T093303
CREATED:20240410T193817Z
LAST-MODIFIED:20240410T193817Z
UID:50596-1714052400-1714055400@cles.sd51.bc.ca
SUMMARY:MP Richard Cannings visits 4/5 class
DESCRIPTION:
URL:https://cles.sd51.bc.ca/event/mp-richard-cannings-visits-4-5-class/
END:VEVENT
BEGIN:VEVENT
DTSTART;TZID=America/Vancouver:20240428T093000
DTEND;TZID=America/Vancouver:20240428T120000
DTSTAMP:20260423T093303
CREATED:20240405T175901Z
LAST-MODIFIED:20240405T175901Z
UID:50569-1714296600-1714305600@cles.sd51.bc.ca
SUMMARY:Lake Clean-Up Day
DESCRIPTION:
URL:https://cles.sd51.bc.ca/event/lake-clean-up-day/
END:VEVENT
BEGIN:VEVENT
DTSTART;TZID=America/Vancouver:20240430T093000
DTEND;TZID=America/Vancouver:20240430T103000
DTSTAMP:20260423T093304
CREATED:20240409T172918Z
LAST-MODIFIED:20240410T210635Z
UID:50591-1714469400-1714473000@cles.sd51.bc.ca
SUMMARY:Ready\, Set\, Learn Event for 3 & 4 year olds
DESCRIPTION:Come to StrongStart (8:30-11 am) then join us for our Ready\, Set\, Learn event from 9:30-10:30 am
URL:https://cles.sd51.bc.ca/event/ready-set-learn-event-for-3-4-year-olds/
END:VEVENT
END:VCALENDAR