BEGIN:VCALENDAR
VERSION:2.0
PRODID:-//Christina Lake Elementary School - ECPv6.15.15//NONSGML v1.0//EN
CALSCALE:GREGORIAN
METHOD:PUBLISH
X-WR-CALNAME:Christina Lake Elementary School
X-ORIGINAL-URL:https://cles.sd51.bc.ca
X-WR-CALDESC:Events for Christina Lake Elementary School
REFRESH-INTERVAL;VALUE=DURATION:PT1H
X-Robots-Tag:noindex
X-PUBLISHED-TTL:PT1H
BEGIN:VTIMEZONE
TZID:America/Vancouver
BEGIN:DAYLIGHT
TZOFFSETFROM:-0800
TZOFFSETTO:-0700
TZNAME:PDT
DTSTART:20230312T100000
END:DAYLIGHT
BEGIN:STANDARD
TZOFFSETFROM:-0700
TZOFFSETTO:-0800
TZNAME:PST
DTSTART:20231105T090000
END:STANDARD
BEGIN:DAYLIGHT
TZOFFSETFROM:-0800
TZOFFSETTO:-0700
TZNAME:PDT
DTSTART:20240310T100000
END:DAYLIGHT
BEGIN:STANDARD
TZOFFSETFROM:-0700
TZOFFSETTO:-0800
TZNAME:PST
DTSTART:20241103T090000
END:STANDARD
BEGIN:DAYLIGHT
TZOFFSETFROM:-0800
TZOFFSETTO:-0700
TZNAME:PDT
DTSTART:20250309T100000
END:DAYLIGHT
BEGIN:STANDARD
TZOFFSETFROM:-0700
TZOFFSETTO:-0800
TZNAME:PST
DTSTART:20251102T090000
END:STANDARD
END:VTIMEZONE
BEGIN:VEVENT
DTSTART;TZID=America/Vancouver:20240502T134500
DTEND;TZID=America/Vancouver:20240502T151000
DTSTAMP:20260423T003700
CREATED:20240409T172247Z
LAST-MODIFIED:20240409T172247Z
UID:50581-1714657500-1714662600@cles.sd51.bc.ca
SUMMARY:Gr. 4/5 Golf Lessons
DESCRIPTION:
URL:https://cles.sd51.bc.ca/event/gr-4-5-golf-lessons/
END:VEVENT
BEGIN:VEVENT
DTSTART;VALUE=DATE:20240505
DTEND;VALUE=DATE:20240506
DTSTAMP:20260423T003700
CREATED:20221103T182048Z
LAST-MODIFIED:20230704T173143Z
UID:49584-1714867200-1714953599@cles.sd51.bc.ca
SUMMARY:Red Dress Day
DESCRIPTION:
URL:https://cles.sd51.bc.ca/event/red-dress-day/
END:VEVENT
BEGIN:VEVENT
DTSTART;TZID=America/Vancouver:20240508T173000
DTEND;TZID=America/Vancouver:20240508T180000
DTSTAMP:20260423T003700
CREATED:20240429T172437Z
LAST-MODIFIED:20240429T172437Z
UID:50611-1715189400-1715191200@cles.sd51.bc.ca
SUMMARY:Parent meeting for 6/7 Victoria-Vancouver field trip
DESCRIPTION:
URL:https://cles.sd51.bc.ca/event/parent-meeting-for-6-7-victoria-vancouver-field-trip/
END:VEVENT
BEGIN:VEVENT
DTSTART;TZID=America/Vancouver:20240509T134500
DTEND;TZID=America/Vancouver:20240509T151000
DTSTAMP:20260423T003700
CREATED:20240409T172329Z
LAST-MODIFIED:20240409T172329Z
UID:50583-1715262300-1715267400@cles.sd51.bc.ca
SUMMARY:Gr. 4/5 Golf Lessons
DESCRIPTION:
URL:https://cles.sd51.bc.ca/event/gr-4-5-golf-lessons-2/
END:VEVENT
BEGIN:VEVENT
DTSTART;TZID=America/Vancouver:20240513T080000
DTEND;TZID=America/Vancouver:20240513T130000
DTSTAMP:20260423T003700
CREATED:20240405T170905Z
LAST-MODIFIED:20240405T170905Z
UID:50563-1715587200-1715605200@cles.sd51.bc.ca
SUMMARY:Gr 4/5 Salmon Release in Castlegar
DESCRIPTION:
URL:https://cles.sd51.bc.ca/event/gr-4-5-salmon-release-in-castlegar/
END:VEVENT
BEGIN:VEVENT
DTSTART;TZID=America/Vancouver:20240514T090000
DTEND;TZID=America/Vancouver:20240514T103000
DTSTAMP:20260423T003700
CREATED:20240508T224558Z
LAST-MODIFIED:20240508T224558Z
UID:50641-1715677200-1715682600@cles.sd51.bc.ca
SUMMARY:Class Photos
DESCRIPTION:
URL:https://cles.sd51.bc.ca/event/class-photos/
END:VEVENT
BEGIN:VEVENT
DTSTART;TZID=America/Vancouver:20240516T083000
DTEND;TZID=America/Vancouver:20240516T150000
DTSTAMP:20260423T003700
CREATED:20240423T192946Z
LAST-MODIFIED:20240423T192946Z
UID:50607-1715848200-1715871600@cles.sd51.bc.ca
SUMMARY:4/5 Field Trip to RDKB in Trail
DESCRIPTION:
URL:https://cles.sd51.bc.ca/event/4-5-field-trip-to-rdkb-in-trail/
END:VEVENT
BEGIN:VEVENT
DTSTART;TZID=America/Vancouver:20240516T140000
DTEND;TZID=America/Vancouver:20240516T150000
DTSTAMP:20260423T003700
CREATED:20240509T194635Z
LAST-MODIFIED:20240509T194635Z
UID:50645-1715868000-1715871600@cles.sd51.bc.ca
SUMMARY:Moose Hide Campaign assembly
DESCRIPTION:Join us in the gymnasium for a Moose Hide Campaign.  There will be red regalia\, jingle and traditional dancers.
URL:https://cles.sd51.bc.ca/event/moose-hide-campaign-assembly/
END:VEVENT
BEGIN:VEVENT
DTSTART;VALUE=DATE:20240520
DTEND;VALUE=DATE:20240521
DTSTAMP:20260423T003700
CREATED:20221103T182114Z
LAST-MODIFIED:20230704T172955Z
UID:49586-1716163200-1716249599@cles.sd51.bc.ca
SUMMARY:Victoria Day - schools closed
DESCRIPTION:
URL:https://cles.sd51.bc.ca/event/victoria-day-schools-closed/
END:VEVENT
BEGIN:VEVENT
DTSTART;TZID=America/Vancouver:20240522T133000
DTEND;TZID=America/Vancouver:20240522T143000
DTSTAMP:20260423T003700
CREATED:20240506T220029Z
LAST-MODIFIED:20240506T220029Z
UID:50625-1716384600-1716388200@cles.sd51.bc.ca
SUMMARY:Pickleball lessons - 2/3 & 6/7 classes
DESCRIPTION:
URL:https://cles.sd51.bc.ca/event/pickleball-lessons-2-3-6-7-classes/
END:VEVENT
BEGIN:VEVENT
DTSTART;TZID=America/Vancouver:20240523T120000
DTEND;TZID=America/Vancouver:20240523T130000
DTSTAMP:20260423T003700
CREATED:20240307T200136Z
LAST-MODIFIED:20240307T200136Z
UID:50522-1716465600-1716469200@cles.sd51.bc.ca
SUMMARY:Hot Lunch - Turkey Burgers
DESCRIPTION:
URL:https://cles.sd51.bc.ca/event/hot-lunch-turkey-burgers/
END:VEVENT
BEGIN:VEVENT
DTSTART;TZID=America/Vancouver:20240523T134500
DTEND;TZID=America/Vancouver:20240523T151000
DTSTAMP:20260423T003700
CREATED:20240409T172410Z
LAST-MODIFIED:20240409T172410Z
UID:50585-1716471900-1716477000@cles.sd51.bc.ca
SUMMARY:Gr. 4/5 Golf Lessons
DESCRIPTION:
URL:https://cles.sd51.bc.ca/event/gr-4-5-golf-lessons-3/
END:VEVENT
BEGIN:VEVENT
DTSTART;VALUE=DATE:20240524
DTEND;VALUE=DATE:20240525
DTSTAMP:20260423T003700
CREATED:20230328T153304Z
LAST-MODIFIED:20230704T172902Z
UID:49914-1716508800-1716595199@cles.sd51.bc.ca
SUMMARY:District track meet for Gr. 4-7 (tentative)
DESCRIPTION:at Perley Elementary
URL:https://cles.sd51.bc.ca/event/district-track-meet-for-gr-4-7-tentative/
END:VEVENT
BEGIN:VEVENT
DTSTART;TZID=America/Vancouver:20240527T130000
DTEND;TZID=America/Vancouver:20240527T133000
DTSTAMP:20260423T003700
CREATED:20240506T220142Z
LAST-MODIFIED:20240506T220142Z
UID:50629-1716814800-1716816600@cles.sd51.bc.ca
SUMMARY:Pickleball lessons - 4/5 class
DESCRIPTION:
URL:https://cles.sd51.bc.ca/event/pickleball-lessons-4-5-class/
END:VEVENT
BEGIN:VEVENT
DTSTART;TZID=America/Vancouver:20240529T133000
DTEND;TZID=America/Vancouver:20240529T143000
DTSTAMP:20260423T003700
CREATED:20240506T220107Z
LAST-MODIFIED:20240506T220107Z
UID:50627-1716989400-1716993000@cles.sd51.bc.ca
SUMMARY:Pickleball lessons - 2/3 & 6/7 classes
DESCRIPTION:
URL:https://cles.sd51.bc.ca/event/pickleball-lessons-2-3-6-7-classes-2/
END:VEVENT
BEGIN:VEVENT
DTSTART;VALUE=DATE:20240530
DTEND;VALUE=DATE:20240531
DTSTAMP:20260423T003700
CREATED:20240409T172602Z
LAST-MODIFIED:20240409T172602Z
UID:50589-1717027200-1717113599@cles.sd51.bc.ca
SUMMARY:Gr. 6/7 Tree Planting Field Trip
DESCRIPTION:
URL:https://cles.sd51.bc.ca/event/gr-6-7-tree-planting-field-trip/
END:VEVENT
BEGIN:VEVENT
DTSTART;TZID=America/Vancouver:20240530T083000
DTEND;TZID=America/Vancouver:20240530T150000
DTSTAMP:20260423T003700
CREATED:20240417T193507Z
LAST-MODIFIED:20240417T193507Z
UID:50604-1717057800-1717081200@cles.sd51.bc.ca
SUMMARY:4/5 Nk'mip Visit
DESCRIPTION:
URL:https://cles.sd51.bc.ca/event/4-5-nkmip-visit/
END:VEVENT
END:VCALENDAR