BEGIN:VCALENDAR
VERSION:2.0
PRODID:-//Christina Lake Elementary School - ECPv6.15.15//NONSGML v1.0//EN
CALSCALE:GREGORIAN
METHOD:PUBLISH
X-ORIGINAL-URL:https://cles.sd51.bc.ca
X-WR-CALDESC:Events for Christina Lake Elementary School
REFRESH-INTERVAL;VALUE=DURATION:PT1H
X-Robots-Tag:noindex
X-PUBLISHED-TTL:PT1H
BEGIN:VTIMEZONE
TZID:America/Vancouver
BEGIN:DAYLIGHT
TZOFFSETFROM:-0800
TZOFFSETTO:-0700
TZNAME:PDT
DTSTART:20240310T100000
END:DAYLIGHT
BEGIN:STANDARD
TZOFFSETFROM:-0700
TZOFFSETTO:-0800
TZNAME:PST
DTSTART:20241103T090000
END:STANDARD
BEGIN:DAYLIGHT
TZOFFSETFROM:-0800
TZOFFSETTO:-0700
TZNAME:PDT
DTSTART:20250309T100000
END:DAYLIGHT
BEGIN:STANDARD
TZOFFSETFROM:-0700
TZOFFSETTO:-0800
TZNAME:PST
DTSTART:20251102T090000
END:STANDARD
BEGIN:DAYLIGHT
TZOFFSETFROM:-0800
TZOFFSETTO:-0700
TZNAME:PDT
DTSTART:20260308T100000
END:DAYLIGHT
BEGIN:STANDARD
TZOFFSETFROM:-0700
TZOFFSETTO:-0800
TZNAME:PST
DTSTART:20261101T090000
END:STANDARD
END:VTIMEZONE
BEGIN:VEVENT
DTSTART;TZID=America/Vancouver:20250303T090000
DTEND;TZID=America/Vancouver:20250303T120000
DTSTAMP:20260422T080011
CREATED:20250122T181617Z
LAST-MODIFIED:20250122T181617Z
UID:50984-1740992400-1741003200@cles.sd51.bc.ca
SUMMARY:District Science Fair (East) at GFSS
DESCRIPTION:
URL:https://cles.sd51.bc.ca/event/district-science-fair-east-at-gfss/
END:VEVENT
BEGIN:VEVENT
DTSTART;TZID=America/Vancouver:20250303T143000
DTEND;TZID=America/Vancouver:20250303T151500
DTSTAMP:20260422T080011
CREATED:20250210T223748Z
LAST-MODIFIED:20250210T223748Z
UID:51077-1741012200-1741014900@cles.sd51.bc.ca
SUMMARY:CLES Science Fair
DESCRIPTION:in the CLES gym
URL:https://cles.sd51.bc.ca/event/cles-science-fair/
END:VEVENT
BEGIN:VEVENT
DTSTART;TZID=America/Vancouver:20250303T153000
DTEND;TZID=America/Vancouver:20250303T163000
DTSTAMP:20260422T080011
CREATED:20250227T223412Z
LAST-MODIFIED:20250227T223412Z
UID:51141-1741015800-1741019400@cles.sd51.bc.ca
SUMMARY:Boys' BB Practice
DESCRIPTION:
URL:https://cles.sd51.bc.ca/event/boys-bb-practice/
END:VEVENT
BEGIN:VEVENT
DTSTART;TZID=America/Vancouver:20250304T121000
DTEND;TZID=America/Vancouver:20250304T125000
DTSTAMP:20260422T080011
CREATED:20250227T223500Z
LAST-MODIFIED:20250227T223500Z
UID:51142-1741090200-1741092600@cles.sd51.bc.ca
SUMMARY:Boys' BB practice
DESCRIPTION:
URL:https://cles.sd51.bc.ca/event/boys-bb-practice-2/
END:VEVENT
BEGIN:VEVENT
DTSTART;TZID=America/Vancouver:20250304T160000
DTEND;TZID=America/Vancouver:20250304T170000
DTSTAMP:20260422T080011
CREATED:20250122T181506Z
LAST-MODIFIED:20250226T184830Z
UID:50979-1741104000-1741107600@cles.sd51.bc.ca
SUMMARY:6/7 girls' basketball practice
DESCRIPTION:
URL:https://cles.sd51.bc.ca/event/6-7-girls-basketball-practice-15/
END:VEVENT
BEGIN:VEVENT
DTSTART;TZID=America/Vancouver:20250305T031500
DTEND;TZID=America/Vancouver:20250305T160000
DTSTAMP:20260422T080011
CREATED:20250122T183637Z
LAST-MODIFIED:20250227T223734Z
UID:51044-1741144500-1741190400@cles.sd51.bc.ca
SUMMARY:Cancelled - Choir
DESCRIPTION:
URL:https://cles.sd51.bc.ca/event/choir-6/
END:VEVENT
BEGIN:VEVENT
DTSTART;TZID=America/Vancouver:20250305T111500
DTEND;TZID=America/Vancouver:20250305T120000
DTSTAMP:20260422T080011
CREATED:20250122T182601Z
LAST-MODIFIED:20250226T184944Z
UID:51009-1741173300-1741176000@cles.sd51.bc.ca
SUMMARY:Music Assembly K-7
DESCRIPTION:
URL:https://cles.sd51.bc.ca/event/music-assembly-k-7/
END:VEVENT
BEGIN:VEVENT
DTSTART;TZID=America/Vancouver:20250305T151500
DTEND;TZID=America/Vancouver:20250305T163000
DTSTAMP:20260422T080011
CREATED:20250227T223537Z
LAST-MODIFIED:20250227T223558Z
UID:51143-1741187700-1741192200@cles.sd51.bc.ca
SUMMARY:Boys' BB Practice 3:15-4:30 pm
DESCRIPTION:
URL:https://cles.sd51.bc.ca/event/boys-bb-practice-315-430-pm/
END:VEVENT
BEGIN:VEVENT
DTSTART;TZID=America/Vancouver:20250306T083000
DTEND;TZID=America/Vancouver:20250306T143000
DTSTAMP:20260422T080011
CREATED:20250122T181541Z
LAST-MODIFIED:20250225T165717Z
UID:50981-1741249800-1741271400@cles.sd51.bc.ca
SUMMARY:District 6/7 Basketball Playday at BCSS
DESCRIPTION:
URL:https://cles.sd51.bc.ca/event/district-6-7-basketball-playday-at-bcss/
END:VEVENT
BEGIN:VEVENT
DTSTART;TZID=America/Vancouver:20250310T123000
DTEND;TZID=America/Vancouver:20250310T143000
DTSTAMP:20260422T080011
CREATED:20250122T182818Z
LAST-MODIFIED:20250122T182818Z
UID:51018-1741609800-1741617000@cles.sd51.bc.ca
SUMMARY:K-3 Skating/Hockey
DESCRIPTION:
URL:https://cles.sd51.bc.ca/event/k-3-skating-hockey/
END:VEVENT
BEGIN:VEVENT
DTSTART;TZID=America/Vancouver:20250311T141500
DTEND;TZID=America/Vancouver:20250311T151500
DTSTAMP:20260422T080011
CREATED:20250122T182957Z
LAST-MODIFIED:20250122T182957Z
UID:51020-1741702500-1741706100@cles.sd51.bc.ca
SUMMARY:Early dismissal at 2:15 pm
DESCRIPTION:
URL:https://cles.sd51.bc.ca/event/early-dismissal-at-215-pm-2/
END:VEVENT
BEGIN:VEVENT
DTSTART;TZID=America/Vancouver:20250312T141500
DTEND;TZID=America/Vancouver:20250312T151500
DTSTAMP:20260422T080011
CREATED:20250122T183043Z
LAST-MODIFIED:20250122T183043Z
UID:51023-1741788900-1741792500@cles.sd51.bc.ca
SUMMARY:Early dismissal at 2:15 pm
DESCRIPTION:
URL:https://cles.sd51.bc.ca/event/early-dismissal-at-215-pm-3/
END:VEVENT
BEGIN:VEVENT
DTSTART;VALUE=DATE:20250313
DTEND;VALUE=DATE:20250314
DTSTAMP:20260422T080011
CREATED:20250122T183113Z
LAST-MODIFIED:20250122T183113Z
UID:51025-1741824000-1741910399@cles.sd51.bc.ca
SUMMARY:Learning Update #2
DESCRIPTION:
URL:https://cles.sd51.bc.ca/event/learning-update-2/
END:VEVENT
BEGIN:VEVENT
DTSTART;VALUE=DATE:20250313
DTEND;VALUE=DATE:20250314
DTSTAMP:20260422T080011
CREATED:20250122T183147Z
LAST-MODIFIED:20250122T183147Z
UID:51028-1741824000-1741910399@cles.sd51.bc.ca
SUMMARY:Skating-Bowling Spring Break trip
DESCRIPTION:
URL:https://cles.sd51.bc.ca/event/skating-bowling-spring-break-trip/
END:VEVENT
BEGIN:VEVENT
DTSTART;VALUE=DATE:20250314
DTEND;VALUE=DATE:20250331
DTSTAMP:20260422T080011
CREATED:20250122T183227Z
LAST-MODIFIED:20250122T183227Z
UID:51030-1741910400-1743379199@cles.sd51.bc.ca
SUMMARY:Spring Break - schools closed
DESCRIPTION:
URL:https://cles.sd51.bc.ca/event/spring-break-schools-closed/
END:VEVENT
BEGIN:VEVENT
DTSTART;VALUE=DATE:20250331
DTEND;VALUE=DATE:20250401
DTSTAMP:20260422T080011
CREATED:20250210T224523Z
LAST-MODIFIED:20250210T224523Z
UID:51083-1743379200-1743465599@cles.sd51.bc.ca
SUMMARY:School re-opens after spring break
DESCRIPTION:
URL:https://cles.sd51.bc.ca/event/school-re-opens-after-spring-break-2/
END:VEVENT
END:VCALENDAR